BEGIN:VCALENDAR
VERSION:2.0
PRODID:-//Valley United Methodist Church - ECPv6.15.20//NONSGML v1.0//EN
CALSCALE:GREGORIAN
METHOD:PUBLISH
X-ORIGINAL-URL:https://valleymethodist.org
X-WR-CALDESC:Events for Valley United Methodist Church
REFRESH-INTERVAL;VALUE=DURATION:PT1H
X-Robots-Tag:noindex
X-PUBLISHED-TTL:PT1H
BEGIN:VTIMEZONE
TZID:America/New_York
BEGIN:DAYLIGHT
TZOFFSETFROM:-0500
TZOFFSETTO:-0400
TZNAME:EDT
DTSTART:20210314T070000
END:DAYLIGHT
BEGIN:STANDARD
TZOFFSETFROM:-0400
TZOFFSETTO:-0500
TZNAME:EST
DTSTART:20211107T060000
END:STANDARD
BEGIN:DAYLIGHT
TZOFFSETFROM:-0500
TZOFFSETTO:-0400
TZNAME:EDT
DTSTART:20220313T070000
END:DAYLIGHT
BEGIN:STANDARD
TZOFFSETFROM:-0400
TZOFFSETTO:-0500
TZNAME:EST
DTSTART:20221106T060000
END:STANDARD
BEGIN:DAYLIGHT
TZOFFSETFROM:-0500
TZOFFSETTO:-0400
TZNAME:EDT
DTSTART:20230312T070000
END:DAYLIGHT
BEGIN:STANDARD
TZOFFSETFROM:-0400
TZOFFSETTO:-0500
TZNAME:EST
DTSTART:20231105T060000
END:STANDARD
BEGIN:DAYLIGHT
TZOFFSETFROM:-0500
TZOFFSETTO:-0400
TZNAME:EDT
DTSTART:20240310T070000
END:DAYLIGHT
BEGIN:STANDARD
TZOFFSETFROM:-0400
TZOFFSETTO:-0500
TZNAME:EST
DTSTART:20241103T060000
END:STANDARD
BEGIN:DAYLIGHT
TZOFFSETFROM:-0500
TZOFFSETTO:-0400
TZNAME:EDT
DTSTART:20250309T070000
END:DAYLIGHT
BEGIN:STANDARD
TZOFFSETFROM:-0400
TZOFFSETTO:-0500
TZNAME:EST
DTSTART:20251102T060000
END:STANDARD
END:VTIMEZONE
BEGIN:VEVENT
DTSTART;TZID=America/New_York:20240519T170000
DTEND;TZID=America/New_York:20240519T190000
DTSTAMP:20260423T134739
CREATED:20240227T210816Z
LAST-MODIFIED:20240227T210816Z
UID:3650-1716138000-1716145200@valleymethodist.org
SUMMARY:Fireside Youth
DESCRIPTION:
URL:https://valleymethodist.org/event/fireside-youth-11/
LOCATION:Valley UMC
END:VEVENT
BEGIN:VEVENT
DTSTART;TZID=America/New_York:20240505T170000
DTEND;TZID=America/New_York:20240505T190000
DTSTAMP:20260423T134739
CREATED:20240227T210741Z
LAST-MODIFIED:20240227T210741Z
UID:3648-1714928400-1714935600@valleymethodist.org
SUMMARY:Fireside Youth
DESCRIPTION:
URL:https://valleymethodist.org/event/fireside-youth-10/
LOCATION:Valley UMC
END:VEVENT
BEGIN:VEVENT
DTSTART;TZID=America/New_York:20240421T170000
DTEND;TZID=America/New_York:20240421T190000
DTSTAMP:20260423T134739
CREATED:20240227T210705Z
LAST-MODIFIED:20240227T210705Z
UID:3646-1713718800-1713726000@valleymethodist.org
SUMMARY:Fireside Youth
DESCRIPTION:
URL:https://valleymethodist.org/event/fireside-youth-9/
LOCATION:Valley UMC
END:VEVENT
BEGIN:VEVENT
DTSTART;TZID=America/New_York:20240407T170000
DTEND;TZID=America/New_York:20240407T190000
DTSTAMP:20260423T134739
CREATED:20240227T210632Z
LAST-MODIFIED:20240227T210632Z
UID:3644-1712509200-1712516400@valleymethodist.org
SUMMARY:Fireside Youth
DESCRIPTION:
URL:https://valleymethodist.org/event/fireside-youth-8/
LOCATION:Valley UMC
END:VEVENT
BEGIN:VEVENT
DTSTART;TZID=America/New_York:20240331T110000
DTEND;TZID=America/New_York:20240331T120000
DTSTAMP:20260423T134739
CREATED:20240227T210401Z
LAST-MODIFIED:20240227T210401Z
UID:3636-1711882800-1711886400@valleymethodist.org
SUMMARY:Easter Sunday Sanctuary Service
DESCRIPTION:
URL:https://valleymethodist.org/event/easter-sunday-sanctuary-service/
LOCATION:Valley UMC
END:VEVENT
BEGIN:VEVENT
DTSTART;TZID=America/New_York:20240331T091500
DTEND;TZID=America/New_York:20240331T100000
DTSTAMP:20260423T134739
CREATED:20240227T210328Z
LAST-MODIFIED:20240227T210328Z
UID:3634-1711876500-1711879200@valleymethodist.org
SUMMARY:Easter Sunday Outdoor Service
DESCRIPTION:
URL:https://valleymethodist.org/event/easter-sunday-outdoor-service/
LOCATION:Valley UMC
END:VEVENT
BEGIN:VEVENT
DTSTART;TZID=America/New_York:20240331T061800
DTEND;TZID=America/New_York:20240331T070000
DTSTAMP:20260423T134739
CREATED:20240227T210246Z
LAST-MODIFIED:20240227T210246Z
UID:3632-1711865880-1711868400@valleymethodist.org
SUMMARY:Easter Sunrise Service
DESCRIPTION:
URL:https://valleymethodist.org/event/easter-sunrise-service/
LOCATION:Valley UMC
END:VEVENT
BEGIN:VEVENT
DTSTART;TZID=America/New_York:20240328T180000
DTEND;TZID=America/New_York:20240328T190000
DTSTAMP:20260423T134739
CREATED:20240227T210208Z
LAST-MODIFIED:20240227T210208Z
UID:3630-1711648800-1711652400@valleymethodist.org
SUMMARY:Maundy Thursday Service
DESCRIPTION:
URL:https://valleymethodist.org/event/maundy-thursday-service/
LOCATION:Valley UMC
END:VEVENT
BEGIN:VEVENT
DTSTART;TZID=America/New_York:20240324T170000
DTEND;TZID=America/New_York:20240324T190000
DTSTAMP:20260423T134739
CREATED:20240227T210604Z
LAST-MODIFIED:20240227T210604Z
UID:3642-1711299600-1711306800@valleymethodist.org
SUMMARY:Fireside Youth
DESCRIPTION:
URL:https://valleymethodist.org/event/fireside-youth-7/
LOCATION:Valley UMC
END:VEVENT
BEGIN:VEVENT
DTSTART;TZID=America/New_York:20240324T120000
DTEND;TZID=America/New_York:20240324T140000
DTSTAMP:20260423T134739
CREATED:20240227T210131Z
LAST-MODIFIED:20240227T210131Z
UID:3628-1711281600-1711288800@valleymethodist.org
SUMMARY:Easter Potluck and Egg Hunt
DESCRIPTION:
URL:https://valleymethodist.org/event/easter-potluck-and-egg-hunt/
LOCATION:Valley UMC
END:VEVENT
BEGIN:VEVENT
DTSTART;TZID=America/New_York:20240310T170000
DTEND;TZID=America/New_York:20240310T190000
DTSTAMP:20260423T134739
CREATED:20240227T210531Z
LAST-MODIFIED:20240227T210531Z
UID:3640-1710090000-1710097200@valleymethodist.org
SUMMARY:Fireside Youth
DESCRIPTION:
URL:https://valleymethodist.org/event/fireside-youth-6/
LOCATION:Valley UMC
END:VEVENT
BEGIN:VEVENT
DTSTART;TZID=America/New_York:20240302T110000
DTEND;TZID=America/New_York:20240302T130000
DTSTAMP:20260423T134739
CREATED:20240227T210438Z
LAST-MODIFIED:20240227T210438Z
UID:3638-1709377200-1709384400@valleymethodist.org
SUMMARY:VUMC Ladies Paint & Sip
DESCRIPTION:
URL:https://valleymethodist.org/event/vumc-ladies-paint-sip/
LOCATION:Valley UMC
END:VEVENT
BEGIN:VEVENT
DTSTART;TZID=America/New_York:20230101T093000
DTEND;TZID=America/New_York:20230101T103000
DTSTAMP:20260423T134739
CREATED:20221206T200139Z
LAST-MODIFIED:20221206T200139Z
UID:3591-1672565400-1672569000@valleymethodist.org
SUMMARY:Epiphany Sunday - Drive thru Communion
DESCRIPTION:
URL:https://valleymethodist.org/event/epiphany-sunday-drive-thru-communion/
LOCATION:Valley UMC
END:VEVENT
BEGIN:VEVENT
DTSTART;TZID=America/New_York:20221224T173000
DTEND;TZID=America/New_York:20221224T183000
DTSTAMP:20260423T134739
CREATED:20221206T200056Z
LAST-MODIFIED:20221206T200056Z
UID:3589-1671903000-1671906600@valleymethodist.org
SUMMARY:Candlelight Communion
DESCRIPTION:
URL:https://valleymethodist.org/event/candlelight-communion/
LOCATION:Valley UMC
END:VEVENT
BEGIN:VEVENT
DTSTART;TZID=America/New_York:20221224T153000
DTEND;TZID=America/New_York:20221224T163000
DTSTAMP:20260423T134739
CREATED:20221206T195949Z
LAST-MODIFIED:20221206T195949Z
UID:3587-1671895800-1671899400@valleymethodist.org
SUMMARY:Drive thru Communion
DESCRIPTION:
URL:https://valleymethodist.org/event/drive-thru-communion/
LOCATION:Valley UMC
END:VEVENT
BEGIN:VEVENT
DTSTART;TZID=America/New_York:20221218T120000
DTEND;TZID=America/New_York:20221218T130000
DTSTAMP:20260423T134739
CREATED:20221114T174909Z
LAST-MODIFIED:20221206T201914Z
UID:3579-1671364800-1671368400@valleymethodist.org
SUMMARY:Lessons and Carols
DESCRIPTION:
URL:https://valleymethodist.org/event/lessons-and-carols/
LOCATION:Valley UMC
END:VEVENT
BEGIN:VEVENT
DTSTART;TZID=America/New_York:20221204T170000
DTEND;TZID=America/New_York:20221204T190000
DTSTAMP:20260423T134739
CREATED:20220913T171501Z
LAST-MODIFIED:20220913T171501Z
UID:3434-1670173200-1670180400@valleymethodist.org
SUMMARY:Fireside Youth Holiday Party
DESCRIPTION:
URL:https://valleymethodist.org/event/fireside-youth-holiday-party/
LOCATION:Epworth UMC\, 2102 Epworth Drive NE\, Huntsville\, AL\, 35811\, United States
END:VEVENT
BEGIN:VEVENT
DTSTART;TZID=America/New_York:20221127T170000
DTEND;TZID=America/New_York:20221127T190000
DTSTAMP:20260423T134739
CREATED:20220913T171358Z
LAST-MODIFIED:20220913T171358Z
UID:3432-1669568400-1669575600@valleymethodist.org
SUMMARY:Fireside Youth
DESCRIPTION:
URL:https://valleymethodist.org/event/fireside-youth-5/
LOCATION:Valley UMC
END:VEVENT
BEGIN:VEVENT
DTSTART;TZID=America/New_York:20221127T110000
DTEND;TZID=America/New_York:20221127T120000
DTSTAMP:20260423T134739
CREATED:20220914T021848Z
LAST-MODIFIED:20220914T021848Z
UID:3518-1669546800-1669550400@valleymethodist.org
SUMMARY:Hanging of the Greens
DESCRIPTION:
URL:https://valleymethodist.org/event/hanging-of-the-greens/
LOCATION:Valley UMC
END:VEVENT
BEGIN:VEVENT
DTSTART;TZID=America/New_York:20221120T100000
DTEND;TZID=America/New_York:20221120T105000
DTSTAMP:20260423T134739
CREATED:20221114T175248Z
LAST-MODIFIED:20221114T175248Z
UID:3582-1668938400-1668941400@valleymethodist.org
SUMMARY:Make Your Own Advent Wreath
DESCRIPTION:
URL:https://valleymethodist.org/event/make-your-own-advent-wreath/
LOCATION:Valley UMC
END:VEVENT
BEGIN:VEVENT
DTSTART;TZID=America/New_York:20221113T120000
DTEND;TZID=America/New_York:20221113T133000
DTSTAMP:20260423T134739
CREATED:20220914T022506Z
LAST-MODIFIED:20220914T022506Z
UID:3527-1668340800-1668346200@valleymethodist.org
SUMMARY:November Potluck
DESCRIPTION:
URL:https://valleymethodist.org/event/november-potluck/
LOCATION:Valley UMC
END:VEVENT
BEGIN:VEVENT
DTSTART;TZID=America/New_York:20221106T170000
DTEND;TZID=America/New_York:20221106T190000
DTSTAMP:20260423T134739
CREATED:20220913T171203Z
LAST-MODIFIED:20220913T171203Z
UID:3430-1667754000-1667761200@valleymethodist.org
SUMMARY:Fireside Youth
DESCRIPTION:
URL:https://valleymethodist.org/event/fireside-youth-4/
LOCATION:Epworth UMC\, 2102 Epworth Drive NE\, Huntsville\, AL\, 35811\, United States
END:VEVENT
BEGIN:VEVENT
DTSTART;VALUE=DATE:20221019
DTEND;VALUE=DATE:20221020
DTSTAMP:20260423T134739
CREATED:20220914T021735Z
LAST-MODIFIED:20220914T022321Z
UID:3516-1666137600-1666223999@valleymethodist.org
SUMMARY:Blessing of the Animals
DESCRIPTION:
URL:https://valleymethodist.org/event/blessing-of-the-animals/
LOCATION:Valley UMC
END:VEVENT
BEGIN:VEVENT
DTSTART;TZID=America/New_York:20221016T170000
DTEND;TZID=America/New_York:20221016T190000
DTSTAMP:20260423T134739
CREATED:20220913T171118Z
LAST-MODIFIED:20220913T171118Z
UID:3428-1665939600-1665946800@valleymethodist.org
SUMMARY:Fireside Youth
DESCRIPTION:
URL:https://valleymethodist.org/event/fireside-youth-3/
LOCATION:Valley UMC
END:VEVENT
BEGIN:VEVENT
DTSTART;TZID=America/New_York:20221009T120000
DTEND;TZID=America/New_York:20221009T133000
DTSTAMP:20260423T134739
CREATED:20220914T022427Z
LAST-MODIFIED:20220914T022427Z
UID:3525-1665316800-1665322200@valleymethodist.org
SUMMARY:October Potluck
DESCRIPTION:
URL:https://valleymethodist.org/event/october-potluck/
LOCATION:Valley UMC
END:VEVENT
BEGIN:VEVENT
DTSTART;TZID=America/New_York:20221002T170000
DTEND;TZID=America/New_York:20221002T190000
DTSTAMP:20260423T134739
CREATED:20220913T171019Z
LAST-MODIFIED:20220913T171019Z
UID:3425-1664730000-1664737200@valleymethodist.org
SUMMARY:Fireside Youth
DESCRIPTION:
URL:https://valleymethodist.org/event/fireside-youth-2/
LOCATION:Epworth UMC\, 2102 Epworth Drive NE\, Huntsville\, AL\, 35811\, United States
END:VEVENT
BEGIN:VEVENT
DTSTART;TZID=America/New_York:20220925T170000
DTEND;TZID=America/New_York:20220925T190000
DTSTAMP:20260423T134739
CREATED:20220913T170808Z
LAST-MODIFIED:20220913T170808Z
UID:3423-1664125200-1664132400@valleymethodist.org
SUMMARY:Fireside Youth
DESCRIPTION:
URL:https://valleymethodist.org/event/fireside-youth/
LOCATION:Valley UMC
END:VEVENT
BEGIN:VEVENT
DTSTART;TZID=America/New_York:20220919T100000
DTEND;TZID=America/New_York:20220919T120000
DTSTAMP:20260423T134739
CREATED:20220914T022155Z
LAST-MODIFIED:20220914T022155Z
UID:3521-1663581600-1663588800@valleymethodist.org
SUMMARY:Volunteer with Rev. Wren at Free 2 Teach
DESCRIPTION:
URL:https://valleymethodist.org/event/volunteer-with-rev-wren-at-free-2-teach/
LOCATION:Free 2 Teach\, 3054 Leeman Ferry Rd SW Suite F\, Huntsville\, AL\, 35801\, United States
END:VEVENT
BEGIN:VEVENT
DTSTART;TZID=America/New_York:20220918T120000
DTEND;TZID=America/New_York:20220918T133000
DTSTAMP:20260423T134739
CREATED:20220913T150352Z
LAST-MODIFIED:20220913T150352Z
UID:3406-1663502400-1663507800@valleymethodist.org
SUMMARY:September Potluck
DESCRIPTION:
URL:https://valleymethodist.org/event/september-potluck/
LOCATION:Valley UMC
END:VEVENT
BEGIN:VEVENT
DTSTART;TZID=America/New_York:20220823T090000
DTEND;TZID=America/New_York:20220823T100000
DTSTAMP:20260423T134739
CREATED:20220823T140138Z
LAST-MODIFIED:20220823T140138Z
UID:3338-1661245200-1661248800@valleymethodist.org
SUMMARY:New Test Event
DESCRIPTION:
URL:https://valleymethodist.org/event/new-test-event/
LOCATION:Valley UMC
END:VEVENT
END:VCALENDAR